BEGIN:VCALENDAR
VERSION:2.0
PRODID:-//Netzwert - Die Kraft der Verstärkung - ECPv5.16.1//NONSGML v1.0//EN
CALSCALE:GREGORIAN
METHOD:PUBLISH
X-WR-CALNAME:Netzwert - Die Kraft der Verstärkung
X-ORIGINAL-URL:https://netzwert.at
X-WR-CALDESC:Veranstaltungen für Netzwert - Die Kraft der Verstärkung
BEGIN:VTIMEZONE
TZID:Europe/Vienna
BEGIN:DAYLIGHT
TZOFFSETFROM:+0100
TZOFFSETTO:+0200
TZNAME:CEST
DTSTART:20190331T010000
END:DAYLIGHT
BEGIN:STANDARD
TZOFFSETFROM:+0200
TZOFFSETTO:+0100
TZNAME:CET
DTSTART:20191027T010000
END:STANDARD
END:VTIMEZONE
BEGIN:VEVENT
DTSTART;VALUE=DATE:20190904
DTEND;VALUE=DATE:20190907
DTSTAMP:20260423T151200
CREATED:20181116T080843Z
LAST-MODIFIED:20181116T080843Z
UID:2772-1567555200-1567814399@netzwert.at
SUMMARY:25. St. Wolfganger Tage 2019 der ARGE EIGENHEIM
DESCRIPTION:
URL:https://netzwert.at/terminkalender/25-st-wolfganger-tage-2019-der-arge-eigenheim/
LOCATION:Kongresshaus St. Wolfgang „Pacher Haus“\, Markt 18\, St. Wolfgang am Wolfgangsee\, Oberösterreich\, 5360\, Österreich
CATEGORIES:Meetings
END:VEVENT
END:VCALENDAR