BEGIN:VCALENDAR
VERSION:2.0
PRODID:-//Netzwert - Die Kraft der Verstärkung - ECPv5.16.1//NONSGML v1.0//EN
CALSCALE:GREGORIAN
METHOD:PUBLISH
X-WR-CALNAME:Netzwert - Die Kraft der Verstärkung
X-ORIGINAL-URL:https://netzwert.at
X-WR-CALDESC:Veranstaltungen für Netzwert - Die Kraft der Verstärkung
BEGIN:VTIMEZONE
TZID:Europe/Vienna
BEGIN:DAYLIGHT
TZOFFSETFROM:+0100
TZOFFSETTO:+0200
TZNAME:CEST
DTSTART:20190331T010000
END:DAYLIGHT
BEGIN:STANDARD
TZOFFSETFROM:+0200
TZOFFSETTO:+0100
TZNAME:CET
DTSTART:20191027T010000
END:STANDARD
END:VTIMEZONE
BEGIN:VEVENT
DTSTART;TZID=Europe/Vienna:20191011T083000
DTEND;TZID=Europe/Vienna:20191011T110000
DTSTAMP:20260423T181040
CREATED:20190910T120908Z
LAST-MODIFIED:20191011T072912Z
UID:3002-1570782600-1570791600@netzwert.at
SUMMARY:Breakfast@Alpenland
DESCRIPTION:Breakfast@Alpenland \nBreakfast@Alpenland – Fotos
URL:https://netzwert.at/terminkalender/breakfastalpenland-2/
LOCATION:Alpenland\, Siegfried Ludwig-Platz 1\, St. Pölten\, Niederösterreich\, 3100\, Österreich
CATEGORIES:Meetings
ATTACH;FMTTYPE=image/jpeg:https://netzwert.at/wp-content/uploads/2019/09/file-2.jpeg
END:VEVENT
END:VCALENDAR