BEGIN:VCALENDAR
VERSION:2.0
PRODID:-//Netzwert - Die Kraft der Verstärkung - ECPv5.16.1//NONSGML v1.0//EN
CALSCALE:GREGORIAN
METHOD:PUBLISH
X-WR-CALNAME:Netzwert - Die Kraft der Verstärkung
X-ORIGINAL-URL:https://netzwert.at
X-WR-CALDESC:Veranstaltungen für Netzwert - Die Kraft der Verstärkung
BEGIN:VTIMEZONE
TZID:Europe/Vienna
BEGIN:DAYLIGHT
TZOFFSETFROM:+0100
TZOFFSETTO:+0200
TZNAME:CEST
DTSTART:20190331T010000
END:DAYLIGHT
BEGIN:STANDARD
TZOFFSETFROM:+0200
TZOFFSETTO:+0100
TZNAME:CET
DTSTART:20191027T010000
END:STANDARD
END:VTIMEZONE
BEGIN:VEVENT
DTSTART;TZID=Europe/Vienna:20191018T083000
DTEND;TZID=Europe/Vienna:20191018T110000
DTSTAMP:20260423T194846
CREATED:20190910T120908Z
LAST-MODIFIED:20190927T052607Z
UID:2986-1571387400-1571396400@netzwert.at
SUMMARY:Breakfast@Rottenmanner
DESCRIPTION:
URL:https://netzwert.at/terminkalender/breakfastrottenmanner/
LOCATION:Rottenmanner Siedlungsgenossenschaft\, Westrandsiedlung 312\, Rottenmann\, 8786\, Österreich
CATEGORIES:Meetings
END:VEVENT
END:VCALENDAR