BEGIN:VCALENDAR
VERSION:2.0
PRODID:-//Netzwert - Die Kraft der Verstärkung - ECPv5.16.1//NONSGML v1.0//EN
CALSCALE:GREGORIAN
METHOD:PUBLISH
X-WR-CALNAME:Netzwert - Die Kraft der Verstärkung
X-ORIGINAL-URL:https://netzwert.at
X-WR-CALDESC:Veranstaltungen für Netzwert - Die Kraft der Verstärkung
BEGIN:VTIMEZONE
TZID:UTC
BEGIN:STANDARD
TZOFFSETFROM:+0000
TZOFFSETTO:+0000
TZNAME:UTC
DTSTART:20180101T000000
END:STANDARD
END:VTIMEZONE
BEGIN:VEVENT
DTSTART;TZID=UTC:20180907T140000
DTEND;TZID=UTC:20180907T160000
DTSTAMP:20260421T151739
CREATED:20180903T062523Z
LAST-MODIFIED:20180905T134758Z
UID:2459-1536328800-1536336000@netzwert.at
SUMMARY:Christine Bauer-Jelinek: Mechanismen der Macht
DESCRIPTION:Frau Christine Bauer-Jelinek\, Wirtschaftscoach und Machtanalytikerin hält im Rahmen der St.Wolfganger Tage der ARGE EIGENHEIM auf Einladung von Mag. Isabella Stickler einen Vortrag über \n„MECHANISMEN DER MACHT – Wie Sie auch in schwierigen Situationen Ihre Ziele erreichen\, ohne Ihre Werte zu verraten“ \n 
URL:https://netzwert.at/terminkalender/christine-bauer-jelinek-mechanismen-der-macht/
LOCATION:Kongresshaus St. Wolfgang „Pacher Haus“\, Markt 18\, St. Wolfgang am Wolfgangsee\, Oberösterreich\, 5360\, Österreich
CATEGORIES:Meetings
ATTACH;FMTTYPE=image/jpeg:https://netzwert.at/wp-content/uploads/2018/08/christine_bauer-jelinek.jpg
END:VEVENT
END:VCALENDAR