BEGIN:VCALENDAR
VERSION:2.0
PRODID:-//Netzwert - Die Kraft der Verstärkung - ECPv5.16.1//NONSGML v1.0//EN
CALSCALE:GREGORIAN
METHOD:PUBLISH
X-WR-CALNAME:Netzwert - Die Kraft der Verstärkung
X-ORIGINAL-URL:https://netzwert.at
X-WR-CALDESC:Veranstaltungen für Netzwert - Die Kraft der Verstärkung
BEGIN:VTIMEZONE
TZID:Europe/Vienna
BEGIN:DAYLIGHT
TZOFFSETFROM:+0100
TZOFFSETTO:+0200
TZNAME:CEST
DTSTART:20210328T010000
END:DAYLIGHT
BEGIN:STANDARD
TZOFFSETFROM:+0200
TZOFFSETTO:+0100
TZNAME:CET
DTSTART:20211031T010000
END:STANDARD
END:VTIMEZONE
BEGIN:VEVENT
DTSTART;TZID=Europe/Vienna:20210831T170000
DTEND;TZID=Europe/Vienna:20210831T200000
DTSTAMP:20260423T230748
CREATED:20210817T065628Z
LAST-MODIFIED:20210817T065735Z
UID:3219-1630429200-1630440000@netzwert.at
SUMMARY:Come together in der Wachau
DESCRIPTION:
URL:https://netzwert.at/terminkalender/come-together-in-der-wachau/
LOCATION:Heurigen-Restaurant Siedler\, Hundsheim 55\, Mauternbach\, Niederösterreich\, 3512\, Österreich
CATEGORIES:Meetings
ATTACH;FMTTYPE=image/jpeg:https://netzwert.at/wp-content/uploads/2020/09/Weinterrassen-Wachau.jpg
END:VEVENT
END:VCALENDAR