BEGIN:VCALENDAR
VERSION:2.0
PRODID:-//Netzwert - Die Kraft der Verstärkung - ECPv5.16.1//NONSGML v1.0//EN
CALSCALE:GREGORIAN
METHOD:PUBLISH
X-WR-CALNAME:Netzwert - Die Kraft der Verstärkung
X-ORIGINAL-URL:https://netzwert.at
X-WR-CALDESC:Veranstaltungen für Netzwert - Die Kraft der Verstärkung
BEGIN:VTIMEZONE
TZID:Europe/Vienna
BEGIN:DAYLIGHT
TZOFFSETFROM:+0100
TZOFFSETTO:+0200
TZNAME:CEST
DTSTART:20220327T010000
END:DAYLIGHT
BEGIN:STANDARD
TZOFFSETFROM:+0200
TZOFFSETTO:+0100
TZNAME:CET
DTSTART:20221030T010000
END:STANDARD
END:VTIMEZONE
BEGIN:VEVENT
DTSTART;TZID=Europe/Vienna:20220330T100000
DTEND;TZID=Europe/Vienna:20220330T150000
DTSTAMP:20260424T021038
CREATED:20220308T095358Z
LAST-MODIFIED:20220308T101955Z
UID:3266-1648634400-1648652400@netzwert.at
SUMMARY:NETZWERT startet in den Frühling
DESCRIPTION:Einladung zum NETZWERTTreffen 20220330
URL:https://netzwert.at/terminkalender/netzwert-startet-in-den-fruehling/
LOCATION:Alpenland\, Siegfried Ludwig-Platz 1\, St. Pölten\, Niederösterreich\, 3100\, Österreich
CATEGORIES:Meetings,Workshop
ATTACH;FMTTYPE=image/jpeg:https://netzwert.at/wp-content/uploads/2021/08/lila-tulpen.jpg
END:VEVENT
END:VCALENDAR