BEGIN:VCALENDAR
VERSION:2.0
PRODID:-//Netzwert - Die Kraft der Verstärkung - ECPv5.16.1//NONSGML v1.0//EN
CALSCALE:GREGORIAN
METHOD:PUBLISH
X-WR-CALNAME:Netzwert - Die Kraft der Verstärkung
X-ORIGINAL-URL:https://netzwert.at
X-WR-CALDESC:Veranstaltungen für Netzwert - Die Kraft der Verstärkung
BEGIN:VTIMEZONE
TZID:Europe/Vienna
BEGIN:DAYLIGHT
TZOFFSETFROM:+0100
TZOFFSETTO:+0200
TZNAME:CEST
DTSTART:20190331T010000
END:DAYLIGHT
BEGIN:STANDARD
TZOFFSETFROM:+0200
TZOFFSETTO:+0100
TZNAME:CET
DTSTART:20191027T010000
END:STANDARD
END:VTIMEZONE
BEGIN:VEVENT
DTSTART;TZID=Europe/Vienna:20190404T100000
DTEND;TZID=Europe/Vienna:20190404T150000
DTSTAMP:20260423T102341
CREATED:20190327T140215Z
LAST-MODIFIED:20190327T140445Z
UID:2871-1554372000-1554390000@netzwert.at
SUMMARY:NETZWERT-Treffen "Kommunikation"
DESCRIPTION:Einladung zum Treffen \nDonnerstag\, 4. April 2019\n \nMärzstraße 1/1. Stock\, Multimediaraum\, 1150 Wien \nProgramm: \n\n10.00 Uhr    Eintreffen\n10.30 Uhr     Begrüßung Mag. Isabella Stickler\nBericht der Vorsitzenden\nBerichte der Länderverantwortlichen und PEGs\nMitgliederbewegungen\nTermine 2019\nVorbereitung der kommenden NETZWERT-Veranstaltungen\n(insbesondere bei den St.Wolfganger Tagen)\n\n  \n\n11.00 Uhr – 13.00 Uhr      Mag. Michaela Kern  www.kernkompetenz.at     \n\n                                                    „Erfolgreich durch Kommunikation und Netzwerk“ \n\n 14.00  Uhr                         NETZWERT 2.0  Neue Wege der Kommunikation und des Austausches\n\nOffenes Gespräch und anschließende Diskussion \n\n15.00 Uhr                           Ausklang\n\n  \nWir freuen uns auf angeregte Gespräche\, viel Input und einen gemütlichen Ausklang. \nMag. Isabella Stickler\nVorsitzende
URL:https://netzwert.at/terminkalender/netzwert-treffen-kommunikation/
LOCATION:Familienwohnbau\, 1150 Wien\, Märzstraße 1\, Wien\, 1150
CATEGORIES:Meetings
END:VEVENT
END:VCALENDAR