BEGIN:VCALENDAR
VERSION:2.0
PRODID:-//Netzwert - Die Kraft der Verstärkung - ECPv5.16.1//NONSGML v1.0//EN
CALSCALE:GREGORIAN
METHOD:PUBLISH
X-WR-CALNAME:Netzwert - Die Kraft der Verstärkung
X-ORIGINAL-URL:https://netzwert.at
X-WR-CALDESC:Veranstaltungen für Netzwert - Die Kraft der Verstärkung
BEGIN:VTIMEZONE
TZID:Europe/Vienna
BEGIN:DAYLIGHT
TZOFFSETFROM:+0100
TZOFFSETTO:+0200
TZNAME:CEST
DTSTART:20210328T010000
END:DAYLIGHT
BEGIN:STANDARD
TZOFFSETFROM:+0200
TZOFFSETTO:+0100
TZNAME:CET
DTSTART:20211031T010000
END:STANDARD
END:VTIMEZONE
BEGIN:VEVENT
DTSTART;TZID=Europe/Vienna:20210909T120000
DTEND;TZID=Europe/Vienna:20210909T130000
DTSTAMP:20260424T003612
CREATED:20210816T080900Z
LAST-MODIFIED:20210817T065128Z
UID:2937-1631188800-1631192400@netzwert.at
SUMMARY:Positive Leadership\, Employer Branding und Führung
DESCRIPTION:Vortrag von Frau Dr. Mag. Maria Bogensperger \nwww.komunariko.at \n 
URL:https://netzwert.at/terminkalender/positive_leadership/
LOCATION:Kongresshaus St. Wolfgang „Pacher Haus“\, Markt 18\, St. Wolfgang am Wolfgangsee\, Oberösterreich\, 5360\, Österreich
CATEGORIES:Meetings,Workshop
END:VEVENT
END:VCALENDAR