BEGIN:VCALENDAR
VERSION:2.0
PRODID:-//Netzwert - Die Kraft der Verstärkung - ECPv5.16.1//NONSGML v1.0//EN
CALSCALE:GREGORIAN
METHOD:PUBLISH
X-WR-CALNAME:Netzwert - Die Kraft der Verstärkung
X-ORIGINAL-URL:https://netzwert.at
X-WR-CALDESC:Veranstaltungen für Netzwert - Die Kraft der Verstärkung
BEGIN:VTIMEZONE
TZID:Europe/Vienna
BEGIN:DAYLIGHT
TZOFFSETFROM:+0100
TZOFFSETTO:+0200
TZNAME:CEST
DTSTART:20190331T010000
END:DAYLIGHT
BEGIN:STANDARD
TZOFFSETFROM:+0200
TZOFFSETTO:+0100
TZNAME:CET
DTSTART:20191027T010000
END:STANDARD
END:VTIMEZONE
BEGIN:VEVENT
DTSTART;TZID=Europe/Vienna:20191128T093000
DTEND;TZID=Europe/Vienna:20191128T150000
DTSTAMP:20260423T212114
CREATED:20191103T094610Z
LAST-MODIFIED:20191203T095036Z
UID:3055-1574933400-1574953200@netzwert.at
SUMMARY:Stärken leben - eine Anleitung für mehr Happiness
DESCRIPTION:Workshop mit Marie Fröhlich \nMitgliedertreffen
URL:https://netzwert.at/terminkalender/staerken-leben-eine-anleitung-fuer-mehr-happiness/
LOCATION:NOWCONSULTIANS\, Franz Josefs-Kai 49\, Wien\, 1010
CATEGORIES:Meetings
ATTACH;FMTTYPE=image/jpeg:https://netzwert.at/wp-content/uploads/2019/10/IMG_0381.jpg
END:VEVENT
END:VCALENDAR